BEGIN:VCALENDAR
VERSION:2.0
PRODID:-//לידה רכה - ECPv6.15.20//NONSGML v1.0//EN
CALSCALE:GREGORIAN
METHOD:PUBLISH
X-ORIGINAL-URL:https://www.leidaraka.co.il
X-WR-CALDESC:Events for לידה רכה
REFRESH-INTERVAL;VALUE=DURATION:PT1H
X-Robots-Tag:noindex
X-PUBLISHED-TTL:PT1H
BEGIN:VTIMEZONE
TZID:Asia/Jerusalem
BEGIN:DAYLIGHT
TZOFFSETFROM:+0200
TZOFFSETTO:+0300
TZNAME:IDT
DTSTART:20240329T000000
END:DAYLIGHT
BEGIN:STANDARD
TZOFFSETFROM:+0300
TZOFFSETTO:+0200
TZNAME:IST
DTSTART:20241026T230000
END:STANDARD
BEGIN:DAYLIGHT
TZOFFSETFROM:+0200
TZOFFSETTO:+0300
TZNAME:IDT
DTSTART:20250328T000000
END:DAYLIGHT
BEGIN:STANDARD
TZOFFSETFROM:+0300
TZOFFSETTO:+0200
TZNAME:IST
DTSTART:20251025T230000
END:STANDARD
BEGIN:DAYLIGHT
TZOFFSETFROM:+0200
TZOFFSETTO:+0300
TZNAME:IDT
DTSTART:20260327T000000
END:DAYLIGHT
BEGIN:STANDARD
TZOFFSETFROM:+0300
TZOFFSETTO:+0200
TZNAME:IST
DTSTART:20261024T230000
END:STANDARD
END:VTIMEZONE
BEGIN:VEVENT
DTSTART;TZID=Asia/Jerusalem:20250612T210000
DTEND;TZID=Asia/Jerusalem:20250612T220000
DTSTAMP:20260426T061444
CREATED:20250525T184054Z
LAST-MODIFIED:20250603T173808Z
UID:10000045-1749762000-1749765600@www.leidaraka.co.il
SUMMARY:אחריות ובחירה בלידה
DESCRIPTION:אליזבת מארחת את מדריכות היפנובריתינג לידה רכה לשיח בנושא אחריות ובחירה בלידה. \nנושא חשוב ביותר שעלה על ידי המדריכות ואליזבת אימצה אותו באהבה. \nזהו נושא שאנו עוסקות בו הרבה בקורס הכנה ללידה היפנובירתינג לידה רכה ומעורר אצל המדריכות הרבה עניין. \nבלייב אנו נתעמק במשמעות של נטילת אחריות בלידה- של מי הלידה הזו בכלל ומי אחראי על מה שקורה? \nאלו בחירות יש לך בלידה והאם יש דברים שאת יכולה להשפיע ולהתכונן אליהן לפני הלידה. \n 
URL:https://www.leidaraka.co.il/event/%d7%90%d7%97%d7%a8%d7%99%d7%95%d7%aa-%d7%95%d7%91%d7%97%d7%99%d7%a8%d7%94-%d7%91%d7%9c%d7%99%d7%93%d7%94/
LOCATION:זום
CATEGORIES:לייב זום חינם
ATTACH;FMTTYPE=image/jpeg:https://www.leidaraka.co.il/wp-content/uploads/2025/05/אחריות-ובחירה-בלידה-A4-3.jpg
ORGANIZER;CN="%D7%90%D7%9C%D7%99%D7%96%D7%91%D7%AA %D7%91%D7%A8%D7%A0%D7%98":MAILTO:leidaraka@gmail.com
END:VEVENT
END:VCALENDAR