BEGIN:VCALENDAR
VERSION:2.0
PRODID:-//לידה רכה - ECPv6.15.20//NONSGML v1.0//EN
CALSCALE:GREGORIAN
METHOD:PUBLISH
X-WR-CALNAME:לידה רכה
X-ORIGINAL-URL:https://www.leidaraka.co.il
X-WR-CALDESC:Events for לידה רכה
REFRESH-INTERVAL;VALUE=DURATION:PT1H
X-Robots-Tag:noindex
X-PUBLISHED-TTL:PT1H
BEGIN:VTIMEZONE
TZID:Asia/Jerusalem
BEGIN:DAYLIGHT
TZOFFSETFROM:+0200
TZOFFSETTO:+0300
TZNAME:IDT
DTSTART:20240329T000000
END:DAYLIGHT
BEGIN:STANDARD
TZOFFSETFROM:+0300
TZOFFSETTO:+0200
TZNAME:IST
DTSTART:20241026T230000
END:STANDARD
BEGIN:DAYLIGHT
TZOFFSETFROM:+0200
TZOFFSETTO:+0300
TZNAME:IDT
DTSTART:20250328T000000
END:DAYLIGHT
BEGIN:STANDARD
TZOFFSETFROM:+0300
TZOFFSETTO:+0200
TZNAME:IST
DTSTART:20251025T230000
END:STANDARD
BEGIN:DAYLIGHT
TZOFFSETFROM:+0200
TZOFFSETTO:+0300
TZNAME:IDT
DTSTART:20260327T000000
END:DAYLIGHT
BEGIN:STANDARD
TZOFFSETFROM:+0300
TZOFFSETTO:+0200
TZNAME:IST
DTSTART:20261024T230000
END:STANDARD
END:VTIMEZONE
BEGIN:VEVENT
DTSTART;TZID=Asia/Jerusalem:20251130T190000
DTEND;TZID=Asia/Jerusalem:20251130T230000
DTSTAMP:20260425T152552
CREATED:20240327T120526Z
LAST-MODIFIED:20251123T212501Z
UID:10000016-1764529200-1764543600@www.leidaraka.co.il
SUMMARY:קורס הכנה ללידה בירושלים עם חמדה
DESCRIPTION:קורס קבוצתי הכנה ללידה היפנובירתינג בירושלים יתקיים בימי ראשון בערב בשעות 19:00-23:00 \nתאריכי הקורס: 30 לנובמבר 2025\, 14 לדצמבר\, 28 לדצמבר\, 11 ינואר 2026. \nבקורס תקבלו ספר\, חוברת ו3 קבצי הרפיות. \nעלות קורס קבוצתי – 1400 ₪ \n  \nלהרשמה ופרטים צרי קשר עם חמדה
URL:https://www.leidaraka.co.il/event/%d7%97%d7%9e%d7%93%d7%94-%d7%99%d7%a8%d7%95%d7%a9%d7%9c%d7%99%d7%9d/
LOCATION:רח’ לכיש 2 חדרה\, רח' לכיש 2 חדרה\, חדרה
CATEGORIES:קורס הכנה ללידה פרונטלי
ATTACH;FMTTYPE=image/png:https://www.leidaraka.co.il/wp-content/uploads/2025/03/20250319_102002.png
ORGANIZER;CN="%D7%95%D7%99%D7%95%D7%99%D7%90%D7%9F %D7%97%D7%96%D7%9F":MAILTO:vivian.yatche@gmail.com
END:VEVENT
END:VCALENDAR