BEGIN:VCALENDAR
VERSION:2.0
PRODID:-//לידה רכה - ECPv6.15.20//NONSGML v1.0//EN
CALSCALE:GREGORIAN
METHOD:PUBLISH
X-ORIGINAL-URL:https://www.leidaraka.co.il
X-WR-CALDESC:Events for לידה רכה
REFRESH-INTERVAL;VALUE=DURATION:PT1H
X-Robots-Tag:noindex
X-PUBLISHED-TTL:PT1H
BEGIN:VTIMEZONE
TZID:Asia/Jerusalem
BEGIN:DAYLIGHT
TZOFFSETFROM:+0200
TZOFFSETTO:+0300
TZNAME:IDT
DTSTART:20230324T000000
END:DAYLIGHT
BEGIN:STANDARD
TZOFFSETFROM:+0300
TZOFFSETTO:+0200
TZNAME:IST
DTSTART:20231028T230000
END:STANDARD
BEGIN:DAYLIGHT
TZOFFSETFROM:+0200
TZOFFSETTO:+0300
TZNAME:IDT
DTSTART:20240329T000000
END:DAYLIGHT
BEGIN:STANDARD
TZOFFSETFROM:+0300
TZOFFSETTO:+0200
TZNAME:IST
DTSTART:20241026T230000
END:STANDARD
BEGIN:DAYLIGHT
TZOFFSETFROM:+0200
TZOFFSETTO:+0300
TZNAME:IDT
DTSTART:20250328T000000
END:DAYLIGHT
BEGIN:STANDARD
TZOFFSETFROM:+0300
TZOFFSETTO:+0200
TZNAME:IST
DTSTART:20251025T230000
END:STANDARD
END:VTIMEZONE
BEGIN:VEVENT
DTSTART;TZID=Asia/Jerusalem:20240301T090000
DTEND;TZID=Asia/Jerusalem:20240301T120000
DTSTAMP:20260421T053755
CREATED:20240208T105941Z
LAST-MODIFIED:20240208T184453Z
UID:10000003-1709283600-1709294400@www.leidaraka.co.il
SUMMARY:באר שבע
DESCRIPTION:קורס קבוצתי הכנה ללידה היפנובירתינג יתקיים בימי שישי בבוקר \nתאריכי הקורס: 1\, 8\, 15\, 22 למרץ 2024 \nבקורס תקבלו ספר\, חוברת ו3 קבצי הרפיות. \nעלות קורס קבוצתי – 1400 ₪ \n  \nלהרשמה ופרטים צרי קשר עם שירי
URL:https://www.leidaraka.co.il/event/%d7%91%d7%90%d7%a8-%d7%a9%d7%91%d7%a2/
CATEGORIES:קורס הכנה ללידה פרונטלי
ATTACH;FMTTYPE=image/jpeg:https://www.leidaraka.co.il/wp-content/uploads/2023/06/WhatsApp-Image-2023-06-08-at-7.08.10-PM.jpeg
END:VEVENT
END:VCALENDAR