BEGIN:VCALENDAR
VERSION:2.0
PRODID:-//לידה רכה - ECPv6.15.20//NONSGML v1.0//EN
CALSCALE:GREGORIAN
METHOD:PUBLISH
X-WR-CALNAME:לידה רכה
X-ORIGINAL-URL:https://www.leidaraka.co.il
X-WR-CALDESC:Events for לידה רכה
REFRESH-INTERVAL;VALUE=DURATION:PT1H
X-Robots-Tag:noindex
X-PUBLISHED-TTL:PT1H
BEGIN:VTIMEZONE
TZID:Asia/Jerusalem
BEGIN:DAYLIGHT
TZOFFSETFROM:+0200
TZOFFSETTO:+0300
TZNAME:IDT
DTSTART:20240329T000000
END:DAYLIGHT
BEGIN:STANDARD
TZOFFSETFROM:+0300
TZOFFSETTO:+0200
TZNAME:IST
DTSTART:20241026T230000
END:STANDARD
BEGIN:DAYLIGHT
TZOFFSETFROM:+0200
TZOFFSETTO:+0300
TZNAME:IDT
DTSTART:20250328T000000
END:DAYLIGHT
BEGIN:STANDARD
TZOFFSETFROM:+0300
TZOFFSETTO:+0200
TZNAME:IST
DTSTART:20251025T230000
END:STANDARD
BEGIN:DAYLIGHT
TZOFFSETFROM:+0200
TZOFFSETTO:+0300
TZNAME:IDT
DTSTART:20260327T000000
END:DAYLIGHT
BEGIN:STANDARD
TZOFFSETFROM:+0300
TZOFFSETTO:+0200
TZNAME:IST
DTSTART:20261024T230000
END:STANDARD
END:VTIMEZONE
BEGIN:VEVENT
DTSTART;TZID=Asia/Jerusalem:20250718T093000
DTEND;TZID=Asia/Jerusalem:20250718T123000
DTSTAMP:20260425T222020
CREATED:20240908T200236Z
LAST-MODIFIED:20250626T122805Z
UID:10000038-1752831000-1752841800@www.leidaraka.co.il
SUMMARY:קורס הכנה ללידה בתל אביב יפו עם מיקה לביא
DESCRIPTION:קורס קבוצתי הכנה ללידה היפנובירתינג בתל אביב יפו יתקיים בימי שישי בבוקר בשעות 9:30-12:30 \nתאריכי הקורס: 18\, 25\, ליולי\, 1\, 8 לאוגוסט 2025 \nבקורס תקבלו ספר\, חוברת ו3 קבצי הרפיות. \nעלות קורס קבוצתי – 1400 ₪ \n  \nלהרשמה ופרטים צרי קשר עם מיקה
URL:https://www.leidaraka.co.il/event/%d7%a7%d7%95%d7%a8%d7%a1-%d7%94%d7%9b%d7%a0%d7%94-%d7%9c%d7%9c%d7%99%d7%93%d7%94-%d7%91%d7%aa%d7%9c-%d7%90%d7%91%d7%99%d7%91-%d7%99%d7%a4%d7%95-%d7%a2%d7%9d-%d7%9e%d7%99%d7%a7%d7%94-%d7%9c%d7%91%d7%99/
LOCATION:תל אביב\, תל אביב
CATEGORIES:קורס הכנה ללידה פרונטלי
ATTACH;FMTTYPE=image/jpeg:https://www.leidaraka.co.il/wp-content/uploads/2025/05/1000104607.jpg
ORGANIZER;CN="%D7%90%D7%9C%D7%99%D7%96%D7%91%D7%AA %D7%91%D7%A8%D7%A0%D7%98":MAILTO:leidaraka@gmail.com
END:VEVENT
END:VCALENDAR