BEGIN:VCALENDAR
VERSION:2.0
PRODID:-//לידה רכה - ECPv6.15.20//NONSGML v1.0//EN
CALSCALE:GREGORIAN
METHOD:PUBLISH
X-WR-CALNAME:לידה רכה
X-ORIGINAL-URL:https://www.leidaraka.co.il
X-WR-CALDESC:Events for לידה רכה
REFRESH-INTERVAL;VALUE=DURATION:PT1H
X-Robots-Tag:noindex
X-PUBLISHED-TTL:PT1H
BEGIN:VTIMEZONE
TZID:Asia/Jerusalem
BEGIN:DAYLIGHT
TZOFFSETFROM:+0200
TZOFFSETTO:+0300
TZNAME:IDT
DTSTART:20240329T000000
END:DAYLIGHT
BEGIN:STANDARD
TZOFFSETFROM:+0300
TZOFFSETTO:+0200
TZNAME:IST
DTSTART:20241026T230000
END:STANDARD
BEGIN:DAYLIGHT
TZOFFSETFROM:+0200
TZOFFSETTO:+0300
TZNAME:IDT
DTSTART:20250328T000000
END:DAYLIGHT
BEGIN:STANDARD
TZOFFSETFROM:+0300
TZOFFSETTO:+0200
TZNAME:IST
DTSTART:20251025T230000
END:STANDARD
BEGIN:DAYLIGHT
TZOFFSETFROM:+0200
TZOFFSETTO:+0300
TZNAME:IDT
DTSTART:20260327T000000
END:DAYLIGHT
BEGIN:STANDARD
TZOFFSETFROM:+0300
TZOFFSETTO:+0200
TZNAME:IST
DTSTART:20261024T230000
END:STANDARD
END:VTIMEZONE
BEGIN:VEVENT
DTSTART;TZID=Asia/Jerusalem:20251228T091500
DTEND;TZID=Asia/Jerusalem:20251228T121500
DTSTAMP:20260425T133754
CREATED:20240212T101543Z
LAST-MODIFIED:20250915T134503Z
UID:10000013-1766913300-1766924100@www.leidaraka.co.il
SUMMARY:קורס הכנה ללידה בירושלים עם מנוחה ידלר
DESCRIPTION:היפנובירתינג מכינה אותך באופן מקיף ללידה טבעית\, רגועה\, בריאה ונוחה יותר. \nקורס קבוצתי הכנה ללידה היפנובירתינג בהר חומה\, ירושלים יתקיים בימי ראשון בבוקר בין השעות 9:15-12:15 \nבקורס תקבלו את ספר ההיפנובירתינג\, חוברת תרגול\, האלבום ‘צבעים ורוגע’ הכולל 3 קבצי שמע להרפיה בהריון ובלידה. \nתאריך פתיחת הקורס: 28.12\nמועד מפגש 2: 4.1.26\nמועד מפגש 3: 11.1\nמועד מפגש 4: 18.1 \nעלות קורס קבוצתי – 1400 ₪ \nקבוצת נשים. יום הקורס עלול להשתנות לפי העדפת המתעניינות \, מוזמנת לפנות בהקדם:). הקורס מותנה במס נרשמות \nלהרשמה ופרטים צרי קשר עם מנוחה
URL:https://www.leidaraka.co.il/event/%d7%99%d7%a8%d7%95%d7%a9%d7%9c%d7%99%d7%9d-%d7%9e%d7%a0%d7%95%d7%97%d7%94-%d7%99%d7%93%d7%9c%d7%a8/
LOCATION:הרב אריה בינה 33\, הר חומה\, ירושלים
CATEGORIES:קורס הכנה ללידה פרונטלי
ATTACH;FMTTYPE=image/jpeg:https://www.leidaraka.co.il/wp-content/uploads/2023/06/IMG-20220619-WA0012.jpg
ORGANIZER;CN="%D7%90%D7%9C%D7%99%D7%96%D7%91%D7%AA %D7%91%D7%A8%D7%A0%D7%98":MAILTO:leidaraka@gmail.com
END:VEVENT
END:VCALENDAR