BEGIN:VCALENDAR
VERSION:2.0
PRODID:-//לידה רכה - ECPv6.15.20//NONSGML v1.0//EN
CALSCALE:GREGORIAN
METHOD:PUBLISH
X-WR-CALNAME:לידה רכה
X-ORIGINAL-URL:https://www.leidaraka.co.il
X-WR-CALDESC:Events for לידה רכה
REFRESH-INTERVAL;VALUE=DURATION:PT1H
X-Robots-Tag:noindex
X-PUBLISHED-TTL:PT1H
BEGIN:VTIMEZONE
TZID:Asia/Jerusalem
BEGIN:DAYLIGHT
TZOFFSETFROM:+0200
TZOFFSETTO:+0300
TZNAME:IDT
DTSTART:20240329T000000
END:DAYLIGHT
BEGIN:STANDARD
TZOFFSETFROM:+0300
TZOFFSETTO:+0200
TZNAME:IST
DTSTART:20241026T230000
END:STANDARD
BEGIN:DAYLIGHT
TZOFFSETFROM:+0200
TZOFFSETTO:+0300
TZNAME:IDT
DTSTART:20250328T000000
END:DAYLIGHT
BEGIN:STANDARD
TZOFFSETFROM:+0300
TZOFFSETTO:+0200
TZNAME:IST
DTSTART:20251025T230000
END:STANDARD
BEGIN:DAYLIGHT
TZOFFSETFROM:+0200
TZOFFSETTO:+0300
TZNAME:IDT
DTSTART:20260327T000000
END:DAYLIGHT
BEGIN:STANDARD
TZOFFSETFROM:+0300
TZOFFSETTO:+0200
TZNAME:IST
DTSTART:20261024T230000
END:STANDARD
END:VTIMEZONE
BEGIN:VEVENT
DTSTART;TZID=Asia/Jerusalem:20251017T093000
DTEND;TZID=Asia/Jerusalem:20251017T123000
DTSTAMP:20260425T184615
CREATED:20240327T121646Z
LAST-MODIFIED:20250915T135019Z
UID:10000017-1760693400-1760704200@www.leidaraka.co.il
SUMMARY:קורס הכנה ללידה בלהבים עם שירי
DESCRIPTION:קורס קבוצתי הכנה ללידה היפנובירתינג בלהבים יתקיים בימי שישי בבוקר בשעות 9:30-12:30 \nתאריך פתיחת הקורס: 17.10\nמועד מפגש 2: 24.10\nמועד מפגש 3: 31.10\nמועד מפגש 4: 7.11 \nבקורס תקבלו ספר\, חוברת ו3 קבצי הרפיות. \nעלות קורס קבוצתי – 1400 ₪ \n להרשמה ופרטים צרי קשר עם שירי
URL:https://www.leidaraka.co.il/event/%d7%91%d7%90%d7%a8-%d7%a9%d7%91%d7%a2-2/
LOCATION:באר שבע
CATEGORIES:קורס הכנה ללידה פרונטלי
ATTACH;FMTTYPE=image/jpeg:https://www.leidaraka.co.il/wp-content/uploads/2023/06/WhatsApp-Image-2023-06-08-at-7.08.10-PM.jpeg
ORGANIZER;CN="%D7%A9%D7%99%D7%A8%D7%99 %D7%92%D7%9C":MAILTO:yomlaila@hotmail.com
END:VEVENT
BEGIN:VEVENT
DTSTART;TZID=Asia/Jerusalem:20251023T091500
DTEND;TZID=Asia/Jerusalem:20251023T121500
DTSTAMP:20260425T184615
CREATED:20240131T124418Z
LAST-MODIFIED:20250914T173741Z
UID:10000001-1761210900-1761221700@www.leidaraka.co.il
SUMMARY:קורס הכנה ללידה בירושלים הר חומה עם מנוחה
DESCRIPTION:קורס הכנה ללידה היפנובירתינג מכין אותך ללידה רגועה ובריאה לך ולתינוקך. \nקורס קבוצתי הכנה ללידה היפנובירתינג בהר חומה בירושלים\, יתקיים בימי חמישי בשעות 9:15-12:15\nתאריכי הקורס: 23\, 30 לאוקטובר\, 6\, 13 לנובמבר. \nבקורס תקבלו ספר ההיפנובריתינג\, חוברת תרגול ואת האלבום צבעים ורוגע הכולל 3 הרפיות להריון וללידה\nעלות קורס קבוצתי – 1400 ₪ \n  \nליצירת קשר עם מנוחה
URL:https://www.leidaraka.co.il/event/%d7%99%d7%a8%d7%95%d7%a9%d7%9c%d7%99%d7%9d-%d7%94%d7%a8-%d7%97%d7%95%d7%9e%d7%94/
LOCATION:הרב אריה בינה 33\, הר חומה\, ירושלים
CATEGORIES:קורס הכנה ללידה פרונטלי
ATTACH;FMTTYPE=image/jpeg:https://www.leidaraka.co.il/wp-content/uploads/2023/06/IMG-20220619-WA0012.jpg
ORGANIZER;CN="%D7%9E%D7%A0%D7%95%D7%97%D7%94 %D7%99%D7%93%D7%9C%D7%A8":MAILTO:menucha100@gmail.com
END:VEVENT
END:VCALENDAR