BEGIN:VCALENDAR
VERSION:2.0
PRODID:-//לידה רכה - ECPv6.15.20//NONSGML v1.0//EN
CALSCALE:GREGORIAN
METHOD:PUBLISH
X-WR-CALNAME:לידה רכה
X-ORIGINAL-URL:https://www.leidaraka.co.il
X-WR-CALDESC:Events for לידה רכה
REFRESH-INTERVAL;VALUE=DURATION:PT1H
X-Robots-Tag:noindex
X-PUBLISHED-TTL:PT1H
BEGIN:VTIMEZONE
TZID:Asia/Jerusalem
BEGIN:DAYLIGHT
TZOFFSETFROM:+0200
TZOFFSETTO:+0300
TZNAME:IDT
DTSTART:20240329T000000
END:DAYLIGHT
BEGIN:STANDARD
TZOFFSETFROM:+0300
TZOFFSETTO:+0200
TZNAME:IST
DTSTART:20241026T230000
END:STANDARD
BEGIN:DAYLIGHT
TZOFFSETFROM:+0200
TZOFFSETTO:+0300
TZNAME:IDT
DTSTART:20250328T000000
END:DAYLIGHT
BEGIN:STANDARD
TZOFFSETFROM:+0300
TZOFFSETTO:+0200
TZNAME:IST
DTSTART:20251025T230000
END:STANDARD
BEGIN:DAYLIGHT
TZOFFSETFROM:+0200
TZOFFSETTO:+0300
TZNAME:IDT
DTSTART:20260327T000000
END:DAYLIGHT
BEGIN:STANDARD
TZOFFSETFROM:+0300
TZOFFSETTO:+0200
TZNAME:IST
DTSTART:20261024T230000
END:STANDARD
END:VTIMEZONE
BEGIN:VEVENT
DTSTART;TZID=Asia/Jerusalem:20250608T180000
DTEND;TZID=Asia/Jerusalem:20250608T210000
DTSTAMP:20260426T031717
CREATED:20240517T085501Z
LAST-MODIFIED:20250525T110027Z
UID:10000030-1749405600-1749416400@www.leidaraka.co.il
SUMMARY:קורס הכנה ללידה בראש פינה עם קרן רוטנברג
DESCRIPTION:היפנובירתינג מכינה אותך באופן מקיף ללידה טבעית\, רגועה\, בריאה ונוחה יותר. \nקורס קבוצתי הכנה ללידה היפנובירתינג יתקיים בימי ראשון בערב בין השעות 18:00-21:00 \nתאריכי הקורס: 8\, 15\, 22\, 29 ליוני 2025. \nבקורס תקבלו את ספר ההיפנובירתינג\, חוברת תרגול\, האלבום ‘צבעים ורוגע’ הכולל 3 קבצי שמע להרפיה בהריון ובלידה. \nעלות קורס קבוצתי – 1400 ₪   להרשמה ופרטים צרי קשר עם קרן
URL:https://www.leidaraka.co.il/event/%d7%a7%d7%95%d7%a8%d7%a1-%d7%94%d7%9b%d7%a0%d7%94-%d7%9c%d7%9c%d7%99%d7%93%d7%94-%d7%91%d7%a8%d7%90%d7%a9-%d7%a4%d7%99%d7%a0%d7%94-%d7%a2%d7%9d-%d7%a7%d7%a8%d7%9f-%d7%a8%d7%95%d7%98%d7%a0%d7%91%d7%a8/
LOCATION:ראש פינה
CATEGORIES:קורס הכנה ללידה פרונטלי
ATTACH;FMTTYPE=image/jpeg:https://www.leidaraka.co.il/wp-content/uploads/2024/05/קרן-רוטנברג-חדש.jpg
END:VEVENT
BEGIN:VEVENT
DTSTART;TZID=Asia/Jerusalem:20250608T183000
DTEND;TZID=Asia/Jerusalem:20250608T213000
DTSTAMP:20260426T031717
CREATED:20250123T105017Z
LAST-MODIFIED:20250428T144333Z
UID:10000040-1749407400-1749418200@www.leidaraka.co.il
SUMMARY:קורס הכנה ללידה בגוש עציון עם אירה קוצרנקו
DESCRIPTION:קורס הכנה ללידה היפנובירתינג מכין אותך ללידה רגועה ובריאה לך ולתינוקך. \nקורס קבוצתי הכנה ללידה היפנובירתינג בגוש עציון\, יתקיים בימי ראשון בין השעות 18:30-21:30 בערב.\nתאריכי הקורס: 8\, 15\, 22\, 29 ליוני 2025. \nבקורס תקבלו ספר ההיפנובריתינג\, חוברת תרגול ואת האלבום צבעים ורוגע הכולל 3 הרפיות להריון וללידה\nעלות קורס קבוצתי – 1400 ₪. \nליצירת קשר עם אירה
URL:https://www.leidaraka.co.il/event/%d7%a7%d7%95%d7%a8%d7%a1-%d7%94%d7%9b%d7%a0%d7%94-%d7%9c%d7%9c%d7%99%d7%93%d7%94-%d7%91%d7%92%d7%95%d7%a9-%d7%a2%d7%a6%d7%99%d7%95%d7%9f-%d7%a2%d7%9d-%d7%90%d7%99%d7%a8%d7%94-%d7%a7%d7%95%d7%a6%d7%a8/
LOCATION:גוש עציון
CATEGORIES:קורס הכנה ללידה פרונטלי
ATTACH;FMTTYPE=image/jpeg:https://www.leidaraka.co.il/wp-content/uploads/2024/07/WhatsApp-Image-2024-07-22-at-11.44.00-AM.jpeg
ORGANIZER;CN="%D7%90%D7%99%D7%A8%D7%94":MAILTO:mailto:irkaku007@gmail.com
END:VEVENT
END:VCALENDAR