BEGIN:VCALENDAR
VERSION:2.0
PRODID:-//לידה רכה - ECPv6.15.20//NONSGML v1.0//EN
CALSCALE:GREGORIAN
METHOD:PUBLISH
X-WR-CALNAME:לידה רכה
X-ORIGINAL-URL:https://www.leidaraka.co.il
X-WR-CALDESC:Events for לידה רכה
REFRESH-INTERVAL;VALUE=DURATION:PT1H
X-Robots-Tag:noindex
X-PUBLISHED-TTL:PT1H
BEGIN:VTIMEZONE
TZID:Asia/Jerusalem
BEGIN:DAYLIGHT
TZOFFSETFROM:+0200
TZOFFSETTO:+0300
TZNAME:IDT
DTSTART:20240329T000000
END:DAYLIGHT
BEGIN:STANDARD
TZOFFSETFROM:+0300
TZOFFSETTO:+0200
TZNAME:IST
DTSTART:20241026T230000
END:STANDARD
BEGIN:DAYLIGHT
TZOFFSETFROM:+0200
TZOFFSETTO:+0300
TZNAME:IDT
DTSTART:20250328T000000
END:DAYLIGHT
BEGIN:STANDARD
TZOFFSETFROM:+0300
TZOFFSETTO:+0200
TZNAME:IST
DTSTART:20251025T230000
END:STANDARD
BEGIN:DAYLIGHT
TZOFFSETFROM:+0200
TZOFFSETTO:+0300
TZNAME:IDT
DTSTART:20260327T000000
END:DAYLIGHT
BEGIN:STANDARD
TZOFFSETFROM:+0300
TZOFFSETTO:+0200
TZNAME:IST
DTSTART:20261024T230000
END:STANDARD
END:VTIMEZONE
BEGIN:VEVENT
DTSTART;TZID=Asia/Jerusalem:20250609T183000
DTEND;TZID=Asia/Jerusalem:20250609T213000
DTSTAMP:20260426T031829
CREATED:20240415T084946Z
LAST-MODIFIED:20250428T111211Z
UID:10000027-1749493800-1749504600@www.leidaraka.co.il
SUMMARY:קורס הכנה ללידה בחיפה עם עדי רחוביקצקי
DESCRIPTION:היפנובירתינג מכינה אותך ללידה רגועה בריאה וחיובית. בקורס נתרגל טכניקות להרפיה ונשימה וכן כלים מעשיים להגשמת הלידה בה את בוחרת. לידה בריאה ונוחה יותר לך ולתינוקך. \nהקורס כולל ארבעה מפגשים בתאריכים: 9\,16\, 23\, 30 ליוני 2025 בימי שני בשעה 18:30 בערב \nבקורס תקבלי ספר\, חוברת תרגול ושלושה קבצי שמע להרפיה בהריון ובלידה \nהקורס יתקיים באחוזה בחיפה בהדרכתה של עדי רחוביצקי\, דולה מנוסה ומדריכת הכנה ללידה מומלצת. \nלפרטים נוספים צרי קשר עם עדי
URL:https://www.leidaraka.co.il/event/%d7%a7%d7%95%d7%a8%d7%a1-%d7%94%d7%9b%d7%a0%d7%94-%d7%9c%d7%9c%d7%99%d7%93%d7%94-%d7%91%d7%97%d7%99%d7%a4%d7%94-%d7%a2%d7%9d-%d7%a2%d7%93%d7%99/
LOCATION:חיפה
CATEGORIES:קורס הכנה ללידה פרונטלי
ATTACH;FMTTYPE=image/jpeg:https://www.leidaraka.co.il/wp-content/uploads/2016/09/הכנה-ללידה-רכה-היפנובירתינג-עדי-רחוביצקי.jpg
ORGANIZER;CN="%D7%A2%D7%93%D7%99":MAILTO:adidoula770@gmail.com
END:VEVENT
END:VCALENDAR