BEGIN:VCALENDAR
VERSION:2.0
PRODID:-//לידה רכה - ECPv6.15.20//NONSGML v1.0//EN
CALSCALE:GREGORIAN
METHOD:PUBLISH
X-WR-CALNAME:לידה רכה
X-ORIGINAL-URL:https://www.leidaraka.co.il
X-WR-CALDESC:Events for לידה רכה
REFRESH-INTERVAL;VALUE=DURATION:PT1H
X-Robots-Tag:noindex
X-PUBLISHED-TTL:PT1H
BEGIN:VTIMEZONE
TZID:Asia/Jerusalem
BEGIN:DAYLIGHT
TZOFFSETFROM:+0200
TZOFFSETTO:+0300
TZNAME:IDT
DTSTART:20240329T000000
END:DAYLIGHT
BEGIN:STANDARD
TZOFFSETFROM:+0300
TZOFFSETTO:+0200
TZNAME:IST
DTSTART:20241026T230000
END:STANDARD
BEGIN:DAYLIGHT
TZOFFSETFROM:+0200
TZOFFSETTO:+0300
TZNAME:IDT
DTSTART:20250328T000000
END:DAYLIGHT
BEGIN:STANDARD
TZOFFSETFROM:+0300
TZOFFSETTO:+0200
TZNAME:IST
DTSTART:20251025T230000
END:STANDARD
BEGIN:DAYLIGHT
TZOFFSETFROM:+0200
TZOFFSETTO:+0300
TZNAME:IDT
DTSTART:20260327T000000
END:DAYLIGHT
BEGIN:STANDARD
TZOFFSETFROM:+0300
TZOFFSETTO:+0200
TZNAME:IST
DTSTART:20261024T230000
END:STANDARD
END:VTIMEZONE
BEGIN:VEVENT
DTSTART;TZID=Asia/Jerusalem:20251203T183000
DTEND;TZID=Asia/Jerusalem:20251203T213000
DTSTAMP:20260425T152713
CREATED:20240908T193043Z
LAST-MODIFIED:20250823T210237Z
UID:10000037-1764786600-1764797400@www.leidaraka.co.il
SUMMARY:קורס הכנה ללידה ברמת רזיאל עם גיה ונטורה
DESCRIPTION:קורס קבוצתי הכנה ללידה היפנובירתינג ברמת רזיאל יתקיים בימי רביעי בערב \nתאריכי הקורס: 3\, 10\, 17\, 24 לדצמבר 2025. \nהקורס יתקיים בין השעות 18:30-21:30 בימי רביעי \nבקורס תקבלו את ספר ההיפנובירתינג\, חוברת תרגול ו3 קבצי הרפיה להריון וללידה מתוך האלבום צבעים ורוגע. \nעלות קורס קבוצתי – 1400 ₪ \n  \n 
URL:https://www.leidaraka.co.il/event/%d7%a7%d7%95%d7%a8%d7%a1-%d7%94%d7%9b%d7%a0%d7%94-%d7%9c%d7%9c%d7%99%d7%93%d7%94-%d7%91%d7%a8%d7%9e%d7%aa-%d7%a8%d7%96%d7%99%d7%90%d7%9c-%d7%a2%d7%9d-%d7%92%d7%99%d7%94-%d7%95%d7%a0%d7%98%d7%95%d7%a8/
LOCATION:רמת רזיאל
CATEGORIES:קורס הכנה ללידה פרונטלי
ATTACH;FMTTYPE=image/jpeg:https://www.leidaraka.co.il/wp-content/uploads/2023/06/גיה-ויינשטיין.jpeg
ORGANIZER;CN="%D7%92%D7%99%D7%94 %D7%95%D7%99%D7%99%D7%A0%D7%A9%D7%98%D7%99%D7%99%D7%9F %D7%95%D7%A0%D7%98%D7%95%D7%A8%D7%94":MAILTO:doulagaya@gmail.com
END:VEVENT
END:VCALENDAR