BEGIN:VCALENDAR
VERSION:2.0
PRODID:-//לידה רכה - ECPv6.15.20//NONSGML v1.0//EN
CALSCALE:GREGORIAN
METHOD:PUBLISH
X-WR-CALNAME:לידה רכה
X-ORIGINAL-URL:https://www.leidaraka.co.il
X-WR-CALDESC:Events for לידה רכה
REFRESH-INTERVAL;VALUE=DURATION:PT1H
X-Robots-Tag:noindex
X-PUBLISHED-TTL:PT1H
BEGIN:VTIMEZONE
TZID:Asia/Jerusalem
BEGIN:DAYLIGHT
TZOFFSETFROM:+0200
TZOFFSETTO:+0300
TZNAME:IDT
DTSTART:20240329T000000
END:DAYLIGHT
BEGIN:STANDARD
TZOFFSETFROM:+0300
TZOFFSETTO:+0200
TZNAME:IST
DTSTART:20241026T230000
END:STANDARD
BEGIN:DAYLIGHT
TZOFFSETFROM:+0200
TZOFFSETTO:+0300
TZNAME:IDT
DTSTART:20250328T000000
END:DAYLIGHT
BEGIN:STANDARD
TZOFFSETFROM:+0300
TZOFFSETTO:+0200
TZNAME:IST
DTSTART:20251025T230000
END:STANDARD
BEGIN:DAYLIGHT
TZOFFSETFROM:+0200
TZOFFSETTO:+0300
TZNAME:IDT
DTSTART:20260327T000000
END:DAYLIGHT
BEGIN:STANDARD
TZOFFSETFROM:+0300
TZOFFSETTO:+0200
TZNAME:IST
DTSTART:20261024T230000
END:STANDARD
END:VTIMEZONE
BEGIN:VEVENT
DTSTART;TZID=Asia/Jerusalem:20250421T183000
DTEND;TZID=Asia/Jerusalem:20250421T213000
DTSTAMP:20260426T054805
CREATED:20240415T122007Z
LAST-MODIFIED:20241231T152628Z
UID:10000028-1745260200-1745271000@www.leidaraka.co.il
SUMMARY:קורס הכנה ללידה בסביון עם דניאל שגיא
DESCRIPTION:היפנובירתינג מכינה אותך ללידה רגועה בריאה וחיובית. בקורס נתרגל טכניקות להרפיה ונשימה וכן כלים מעשיים להגשמת הלידה בה את בוחרת. לידה בריאה ונוחה יותר לך ולתינוקך. \nהקורס כולל ארבעה מפגשים בתאריכים: 21/4\, 28/4 \, 5/5\, 12/5 ימי שני בערב\, בין השעות :18:30-21:30 \nבקורס תקבלי את ספר ההיפנובירתינג\, חוברת תרגול ושלושה קבצי שמע להרפיה בהריון ובלידה \nהקורס יתקיים בסביון בהדרכתה של דניאל שגיא\, דולה מנוסה ומדריכת הכנה ללידה מומלצת. \n 
URL:https://www.leidaraka.co.il/event/%d7%a7%d7%95%d7%a8%d7%a1-%d7%94%d7%9b%d7%a0%d7%94-%d7%9c%d7%9c%d7%99%d7%93%d7%94-%d7%91%d7%a1%d7%91%d7%99%d7%95%d7%9f-%d7%a2%d7%9d-%d7%93%d7%a0%d7%99%d7%90%d7%9c-%d7%a9%d7%92%d7%99%d7%90/
LOCATION:סביון\, סמטת כרם הזיתים 5\, סביון\, מרכז
CATEGORIES:קורס הכנה ללידה פרונטלי
ATTACH;FMTTYPE=image/jpeg:https://www.leidaraka.co.il/wp-content/uploads/2024/04/דניאל-שגיא.jpeg
ORGANIZER;CN="%D7%93%D7%A0%D7%99%D7%90%D7%9C %D7%A9%D7%92%D7%99%D7%90":MAILTO:danielesagi@gmail.com
END:VEVENT
END:VCALENDAR