BEGIN:VCALENDAR
VERSION:2.0
PRODID:-//לידה רכה - ECPv6.15.20//NONSGML v1.0//EN
CALSCALE:GREGORIAN
METHOD:PUBLISH
X-WR-CALNAME:לידה רכה
X-ORIGINAL-URL:https://www.leidaraka.co.il
X-WR-CALDESC:Events for לידה רכה
REFRESH-INTERVAL;VALUE=DURATION:PT1H
X-Robots-Tag:noindex
X-PUBLISHED-TTL:PT1H
BEGIN:VTIMEZONE
TZID:Asia/Jerusalem
BEGIN:DAYLIGHT
TZOFFSETFROM:+0200
TZOFFSETTO:+0300
TZNAME:IDT
DTSTART:20240329T000000
END:DAYLIGHT
BEGIN:STANDARD
TZOFFSETFROM:+0300
TZOFFSETTO:+0200
TZNAME:IST
DTSTART:20241026T230000
END:STANDARD
BEGIN:DAYLIGHT
TZOFFSETFROM:+0200
TZOFFSETTO:+0300
TZNAME:IDT
DTSTART:20250328T000000
END:DAYLIGHT
BEGIN:STANDARD
TZOFFSETFROM:+0300
TZOFFSETTO:+0200
TZNAME:IST
DTSTART:20251025T230000
END:STANDARD
BEGIN:DAYLIGHT
TZOFFSETFROM:+0200
TZOFFSETTO:+0300
TZNAME:IDT
DTSTART:20260327T000000
END:DAYLIGHT
BEGIN:STANDARD
TZOFFSETFROM:+0300
TZOFFSETTO:+0200
TZNAME:IST
DTSTART:20261024T230000
END:STANDARD
END:VTIMEZONE
BEGIN:VEVENT
DTSTART;TZID=Asia/Jerusalem:20250718T110000
DTEND;TZID=Asia/Jerusalem:20250718T123000
DTSTAMP:20260426T025138
CREATED:20240405T121804Z
LAST-MODIFIED:20250603T155917Z
UID:10000025-1752836400-1752841800@www.leidaraka.co.il
SUMMARY:קורס הכנה ללידה בעמק חפר עם בר נפתלי
DESCRIPTION:היפנובירתינג מכינה אותך באופן מקיף ללידה טבעית\, רגועה\, בריאה ונוחה יותר. \nקורס קבוצתי הכנה ללידה היפנובירתינג יתקיים בימי שישי בבוקר בין השעות 11:00-14:00 \nתאריכי הקורס: 18\, 25 ליולי ו- 1\, 8 לאוגוסט 2025 \nבקורס תקבלו את ספר ההיפנובירתינג\, חוברת תרגול\, האלבום ‘צבעים ורוגע’ הכולל 3 קבצי שמע להרפיה בהריון ובלידה. \nעלות קורס קבוצתי – 1400 ₪   להרשמה ופרטים צרי קשר עם בר
URL:https://www.leidaraka.co.il/event/%d7%a7%d7%95%d7%a8%d7%a1-%d7%94%d7%9b%d7%a0%d7%94-%d7%9c%d7%9c%d7%99%d7%93%d7%94-%d7%91%d7%a2%d7%9e%d7%a7-%d7%97%d7%a4%d7%a8-%d7%a2%d7%9d-%d7%91%d7%a8-%d7%a0%d7%a4%d7%aa%d7%9c%d7%99/
LOCATION:חבצלת השרון\, עמק חפר
CATEGORIES:קורס הכנה ללידה פרונטלי
ATTACH;FMTTYPE=image/jpeg:https://www.leidaraka.co.il/wp-content/uploads/2024/02/WhatsApp-Image-2024-02-13-at-12.56.44-PM.jpeg
END:VEVENT
END:VCALENDAR